BEGIN:VCALENDAR
VERSION:2.0
PRODID:-//NetAuktion//NONSGML NetAuktion//SV
METHOD:PUBLISH
BEGIN:VEVENT
UID:20260421T104318-706777198-netauktion.se
DTSTAMP:20260421T104318
DTSTART:20080731T011700
DTEND:20080731T012000
SUMMARY:Netauktion objekt 0028-010 Auktionspåminnelse
DESCRIPTION:Länk till objektet du var intresserad av: https://staging.netauktion.se/auktion/produkt/mobiltelefoner-barbar-telefon
END:VEVENT
END:VCALENDAR
