BEGIN:VCALENDAR
VERSION:2.0
PRODID:-//NetAuktion//NONSGML NetAuktion//SV
METHOD:PUBLISH
BEGIN:VEVENT
UID:20260421T102935-1835936511-netauktion.se
DTSTAMP:20260421T102935
DTSTART:20150930T025100
DTEND:20150930T025400
SUMMARY:Netauktion objekt 2271-020 Auktionspåminnelse
DESCRIPTION:Länk till objektet du var intresserad av: https://staging.netauktion.se/auktion/produkt/5-delar-sexleksaker
END:VEVENT
END:VCALENDAR
