BEGIN:VCALENDAR
VERSION:2.0
PRODID:-//NetAuktion//NONSGML NetAuktion//SV
METHOD:PUBLISH
BEGIN:VEVENT
UID:20260421T104426-151459075-netauktion.se
DTSTAMP:20260421T104426
DTSTART:20150930T025400
DTEND:20150930T025700
SUMMARY:Netauktion objekt 2271-023 Auktionspåminnelse
DESCRIPTION:Länk till objektet du var intresserad av: https://staging.netauktion.se/auktion/produkt/sexleksaker-dvds-8
END:VEVENT
END:VCALENDAR
