BEGIN:VCALENDAR
VERSION:2.0
PRODID:-//NetAuktion//NONSGML NetAuktion//SV
METHOD:PUBLISH
BEGIN:VEVENT
UID:20260421T104616-280955673-netauktion.se
DTSTAMP:20260421T104616
DTSTART:20150930T025600
DTEND:20150930T025900
SUMMARY:Netauktion objekt 2271-027 Auktionspåminnelse
DESCRIPTION:Länk till objektet du var intresserad av: https://staging.netauktion.se/auktion/produkt/sexleksaker-mm-2
END:VEVENT
END:VCALENDAR
