BEGIN:VCALENDAR
VERSION:2.0
PRODID:-//NetAuktion//NONSGML NetAuktion//SV
METHOD:PUBLISH
BEGIN:VEVENT
UID:20260421T104529-486355953-netauktion.se
DTSTAMP:20260421T104529
DTSTART:20150930T025900
DTEND:20150930T030200
SUMMARY:Netauktion objekt 2271-028 Auktionspåminnelse
DESCRIPTION:Länk till objektet du var intresserad av: https://staging.netauktion.se/auktion/produkt/5-delar-sexleksaker-5
END:VEVENT
END:VCALENDAR
