BEGIN:VCALENDAR
VERSION:2.0
PRODID:-//NetAuktion//NONSGML NetAuktion//SV
METHOD:PUBLISH
BEGIN:VEVENT
UID:20260421T104607-1730325298-netauktion.se
DTSTAMP:20260421T104607
DTSTART:20150930T030100
DTEND:20150930T030400
SUMMARY:Netauktion objekt 2271-031 Auktionspåminnelse
DESCRIPTION:Länk till objektet du var intresserad av: https://staging.netauktion.se/auktion/produkt/5-delar-sexleksaker-3
END:VEVENT
END:VCALENDAR
