BEGIN:VCALENDAR
VERSION:2.0
PRODID:-//NetAuktion//NONSGML NetAuktion//SV
METHOD:PUBLISH
BEGIN:VEVENT
UID:20260421T103238-1528446094-netauktion.se
DTSTAMP:20260421T103238
DTSTART:20150930T030200
DTEND:20150930T030500
SUMMARY:Netauktion objekt 2271-032 Auktionspåminnelse
DESCRIPTION:Länk till objektet du var intresserad av: https://staging.netauktion.se/auktion/produkt/4-delar-sexleksaker-3
END:VEVENT
END:VCALENDAR
