BEGIN:VCALENDAR
VERSION:2.0
PRODID:-//NetAuktion//NONSGML NetAuktion//SV
METHOD:PUBLISH
BEGIN:VEVENT
UID:20260421T104308-293151642-netauktion.se
DTSTAMP:20260421T104308
DTSTART:20150930T030400
DTEND:20150930T030700
SUMMARY:Netauktion objekt 2271-035 Auktionspåminnelse
DESCRIPTION:Länk till objektet du var intresserad av: https://staging.netauktion.se/auktion/produkt/sexleksaker-mm-9
END:VEVENT
END:VCALENDAR
