BEGIN:VCALENDAR
VERSION:2.0
PRODID:-//NetAuktion//NONSGML NetAuktion//SV
METHOD:PUBLISH
BEGIN:VEVENT
UID:20260421T104443-1446128956-netauktion.se
DTSTAMP:20260421T104443
DTSTART:20150930T030600
DTEND:20150930T030900
SUMMARY:Netauktion objekt 2271-036 Auktionspåminnelse
DESCRIPTION:Länk till objektet du var intresserad av: https://staging.netauktion.se/auktion/produkt/sexleksaker-mm-12
END:VEVENT
END:VCALENDAR
