BEGIN:VCALENDAR
VERSION:2.0
PRODID:-//NetAuktion//NONSGML NetAuktion//SV
METHOD:PUBLISH
BEGIN:VEVENT
UID:20260421T104604-295323505-netauktion.se
DTSTAMP:20260421T104604
DTSTART:20150930T030900
DTEND:20150930T031200
SUMMARY:Netauktion objekt 2271-039 Auktionspåminnelse
DESCRIPTION:Länk till objektet du var intresserad av: https://staging.netauktion.se/auktion/produkt/sexleksaker-mm-14
END:VEVENT
END:VCALENDAR
