BEGIN:VCALENDAR
VERSION:2.0
PRODID:-//NetAuktion//NONSGML NetAuktion//SV
METHOD:PUBLISH
BEGIN:VEVENT
UID:20260421T104458-705638781-netauktion.se
DTSTAMP:20260421T104458
DTSTART:20150930T031300
DTEND:20150930T031600
SUMMARY:Netauktion objekt 2271-043 Auktionspåminnelse
DESCRIPTION:Länk till objektet du var intresserad av: https://staging.netauktion.se/auktion/produkt/sexleksaker-mm-15
END:VEVENT
END:VCALENDAR
