BEGIN:VCALENDAR
VERSION:2.0
PRODID:-//NetAuktion//NONSGML NetAuktion//SV
METHOD:PUBLISH
BEGIN:VEVENT
UID:20260421T102835-1842419034-netauktion.se
DTSTAMP:20260421T102835
DTSTART:20150930T031400
DTEND:20150930T031700
SUMMARY:Netauktion objekt 2271-044 Auktionspåminnelse
DESCRIPTION:Länk till objektet du var intresserad av: https://staging.netauktion.se/auktion/produkt/sexleksaker-mm-18
END:VEVENT
END:VCALENDAR
