BEGIN:VCALENDAR
VERSION:2.0
PRODID:-//NetAuktion//NONSGML NetAuktion//SV
METHOD:PUBLISH
BEGIN:VEVENT
UID:20260421T103005-529939894-netauktion.se
DTSTAMP:20260421T103005
DTSTART:20150930T031500
DTEND:20150930T031800
SUMMARY:Netauktion objekt 2271-046 Auktionspåminnelse
DESCRIPTION:Länk till objektet du var intresserad av: https://staging.netauktion.se/auktion/produkt/sexleksaker-dvds-7
END:VEVENT
END:VCALENDAR
