BEGIN:VCALENDAR
VERSION:2.0
PRODID:-//NetAuktion//NONSGML NetAuktion//SV
METHOD:PUBLISH
BEGIN:VEVENT
UID:20260421T102802-284989932-netauktion.se
DTSTAMP:20260421T102802
DTSTART:20150930T031700
DTEND:20150930T032000
SUMMARY:Netauktion objekt 2271-047 Auktionspåminnelse
DESCRIPTION:Länk till objektet du var intresserad av: https://staging.netauktion.se/auktion/produkt/sexleksaker-mm-19
END:VEVENT
END:VCALENDAR
