BEGIN:VCALENDAR
VERSION:2.0
PRODID:-//NetAuktion//NONSGML NetAuktion//SV
METHOD:PUBLISH
BEGIN:VEVENT
UID:20260421T104601-466061961-netauktion.se
DTSTAMP:20260421T104601
DTSTART:20150930T031800
DTEND:20150930T032100
SUMMARY:Netauktion objekt 2271-048 Auktionspåminnelse
DESCRIPTION:Länk till objektet du var intresserad av: https://staging.netauktion.se/auktion/produkt/5-delar-sexleksaker-4
END:VEVENT
END:VCALENDAR
