BEGIN:VCALENDAR
VERSION:2.0
PRODID:-//NetAuktion//NONSGML NetAuktion//SV
METHOD:PUBLISH
BEGIN:VEVENT
UID:20260421T104440-1788236493-netauktion.se
DTSTAMP:20260421T104440
DTSTART:20150930T032100
DTEND:20150930T032400
SUMMARY:Netauktion objekt 2271-050 Auktionspåminnelse
DESCRIPTION:Länk till objektet du var intresserad av: https://staging.netauktion.se/auktion/produkt/sexleksaker-mm-20
END:VEVENT
END:VCALENDAR
