BEGIN:VCALENDAR
VERSION:2.0
PRODID:-//NetAuktion//NONSGML NetAuktion//SV
METHOD:PUBLISH
BEGIN:VEVENT
UID:20260421T103129-162123610-netauktion.se
DTSTAMP:20260421T103129
DTSTART:20150930T032200
DTEND:20150930T032500
SUMMARY:Netauktion objekt 2271-052 Auktionspåminnelse
DESCRIPTION:Länk till objektet du var intresserad av: https://staging.netauktion.se/auktion/produkt/sexleksaker-dvds-10
END:VEVENT
END:VCALENDAR
