BEGIN:VCALENDAR
VERSION:2.0
PRODID:-//NetAuktion//NONSGML NetAuktion//SV
METHOD:PUBLISH
BEGIN:VEVENT
UID:20260421T104446-2093139341-netauktion.se
DTSTAMP:20260421T104446
DTSTART:20150930T032300
DTEND:20150930T032600
SUMMARY:Netauktion objekt 2271-053 Auktionspåminnelse
DESCRIPTION:Länk till objektet du var intresserad av: https://staging.netauktion.se/auktion/produkt/5-delar-sexleksaker-7
END:VEVENT
END:VCALENDAR
