BEGIN:VCALENDAR
VERSION:2.0
PRODID:-//NetAuktion//NONSGML NetAuktion//SV
METHOD:PUBLISH
BEGIN:VEVENT
UID:20260421T104427-1509797315-netauktion.se
DTSTAMP:20260421T104427
DTSTART:20150930T032300
DTEND:20150930T032600
SUMMARY:Netauktion objekt 2271-054 Auktionspåminnelse
DESCRIPTION:Länk till objektet du var intresserad av: https://staging.netauktion.se/auktion/produkt/3-delar-sexleksaker
END:VEVENT
END:VCALENDAR
