BEGIN:VCALENDAR
VERSION:2.0
PRODID:-//NetAuktion//NONSGML NetAuktion//SV
METHOD:PUBLISH
BEGIN:VEVENT
UID:20260421T104633-743617969-netauktion.se
DTSTAMP:20260421T104633
DTSTART:20150930T032700
DTEND:20150930T033000
SUMMARY:Netauktion objekt 2271-055 Auktionspåminnelse
DESCRIPTION:Länk till objektet du var intresserad av: https://staging.netauktion.se/auktion/produkt/6-delar-sexleksaker-2
END:VEVENT
END:VCALENDAR
