BEGIN:VCALENDAR
VERSION:2.0
PRODID:-//NetAuktion//NONSGML NetAuktion//SV
METHOD:PUBLISH
BEGIN:VEVENT
UID:20260421T104445-1893477290-netauktion.se
DTSTAMP:20260421T104445
DTSTART:20090731T020700
DTEND:20090731T021000
SUMMARY:Netauktion objekt 0191-033 Auktionspåminnelse
DESCRIPTION:Länk till objektet du var intresserad av: https://staging.netauktion.se/auktion/produkt/4-nya-skor-strl-40-killherr-varde-2500-kr
END:VEVENT
END:VCALENDAR
