BEGIN:VCALENDAR
VERSION:2.0
PRODID:-//NetAuktion//NONSGML NetAuktion//SV
METHOD:PUBLISH
BEGIN:VEVENT
UID:20260425T134726-2096452352-netauktion.se
DTSTAMP:20260425T134726
DTSTART:20160718T034100
DTEND:20160718T034400
SUMMARY:Netauktion objekt 2091-017 Auktionspåminnelse
DESCRIPTION:Länk till objektet du var intresserad av: https://staging.netauktion.se/auktion/produkt/soffbord-furu-krogenas-mobler
END:VEVENT
END:VCALENDAR
