BEGIN:VCALENDAR
VERSION:2.0
PRODID:-//NetAuktion//NONSGML NetAuktion//SV
METHOD:PUBLISH
BEGIN:VEVENT
UID:20260421T102707-1175953593-netauktion.se
DTSTAMP:20260421T102707
DTSTART:20150930T034900
DTEND:20150930T035200
SUMMARY:Netauktion objekt 2197-005 Auktionspåminnelse
DESCRIPTION:Länk till objektet du var intresserad av: https://staging.netauktion.se/auktion/produkt/sekatorer-lasertermometer-mm-2
END:VEVENT
END:VCALENDAR
