BEGIN:VCALENDAR
VERSION:2.0
PRODID:-//NetAuktion//NONSGML NetAuktion//SV
METHOD:PUBLISH
BEGIN:VEVENT
UID:20260421T104319-1522535518-netauktion.se
DTSTAMP:20260421T104319
DTSTART:20080731T012000
DTEND:20080731T012300
SUMMARY:Netauktion objekt 0021-014 Auktionspåminnelse
DESCRIPTION:Länk till objektet du var intresserad av: https://staging.netauktion.se/auktion/produkt/cementblandare-skottkarror-spadar-mm
END:VEVENT
END:VCALENDAR
