BEGIN:VCALENDAR
VERSION:2.0
PRODID:-//NetAuktion//NONSGML NetAuktion//SV
METHOD:PUBLISH
BEGIN:VEVENT
UID:20260421T102934-1755039957-netauktion.se
DTSTAMP:20260421T102934
DTSTART:20090731T021000
DTEND:20090731T021300
SUMMARY:Netauktion objekt 0191-041 Auktionspåminnelse
DESCRIPTION:Länk till objektet du var intresserad av: https://staging.netauktion.se/auktion/produkt/4-par-nya-skor-strl-38-killherr-varde-2100-kr
END:VEVENT
END:VCALENDAR
