BEGIN:VCALENDAR
VERSION:2.0
PRODID:-//NetAuktion//NONSGML NetAuktion//SV
METHOD:PUBLISH
BEGIN:VEVENT
UID:20260421T104303-449930382-netauktion.se
DTSTAMP:20260421T104303
DTSTART:20080731T013100
DTEND:20080731T013400
SUMMARY:Netauktion objekt 0021-015 Auktionspåminnelse
DESCRIPTION:Länk till objektet du var intresserad av: https://staging.netauktion.se/auktion/produkt/3st-stegar
END:VEVENT
END:VCALENDAR
