BEGIN:VCALENDAR
VERSION:2.0
PRODID:-//NetAuktion//NONSGML NetAuktion//SV
METHOD:PUBLISH
BEGIN:VEVENT
UID:20260421T102853-594767404-netauktion.se
DTSTAMP:20260421T102853
DTSTART:20090731T023100
DTEND:20090731T023400
SUMMARY:Netauktion objekt 0191-048 Auktionspåminnelse
DESCRIPTION:Länk till objektet du var intresserad av: https://staging.netauktion.se/auktion/produkt/4-par-nya-skor-strl-36-killherr-varde-2300-kr
END:VEVENT
END:VCALENDAR
