BEGIN:VCALENDAR
VERSION:2.0
PRODID:-//NetAuktion//NONSGML NetAuktion//SV
METHOD:PUBLISH
BEGIN:VEVENT
UID:20260421T103129-721517185-netauktion.se
DTSTAMP:20260421T103129
DTSTART:20151030T000000
DTEND:20151030T000300
SUMMARY:Netauktion objekt 2427-004 Auktionspåminnelse
DESCRIPTION:Länk till objektet du var intresserad av: https://staging.netauktion.se/auktion/produkt/elkablarskarvsladdar-i-stall
END:VEVENT
END:VCALENDAR
