BEGIN:VCALENDAR
VERSION:2.0
PRODID:-//NetAuktion//NONSGML NetAuktion//SV
METHOD:PUBLISH
BEGIN:VEVENT
UID:20260421T103005-911491265-netauktion.se
DTSTAMP:20260421T103005
DTSTART:20151030T003700
DTEND:20151030T004000
SUMMARY:Netauktion objekt 2427-006 Auktionspåminnelse
DESCRIPTION:Länk till objektet du var intresserad av: https://staging.netauktion.se/auktion/produkt/ridgid-gangmaskin-4
END:VEVENT
END:VCALENDAR
