BEGIN:VCALENDAR
VERSION:2.0
PRODID:-//NetAuktion//NONSGML NetAuktion//SV
METHOD:PUBLISH
BEGIN:VEVENT
UID:20260421T104453-2033817806-netauktion.se
DTSTAMP:20260421T104453
DTSTART:20151127T010000
DTEND:20151127T010300
SUMMARY:Netauktion objekt 2334-012 Auktionspåminnelse
DESCRIPTION:Länk till objektet du var intresserad av: https://staging.netauktion.se/auktion/produkt/laserskrivare-brother-hl-3140cw
END:VEVENT
END:VCALENDAR
