BEGIN:VCALENDAR
VERSION:2.0
PRODID:-//NetAuktion//NONSGML NetAuktion//SV
METHOD:PUBLISH
BEGIN:VEVENT
UID:20260421T104534-388073814-netauktion.se
DTSTAMP:20260421T104534
DTSTART:20090731T020800
DTEND:20090731T021100
SUMMARY:Netauktion objekt 0191-052 Auktionspåminnelse
DESCRIPTION:Länk till objektet du var intresserad av: https://staging.netauktion.se/auktion/produkt/nya-kill-skarp-varde-8500-kr
END:VEVENT
END:VCALENDAR
