BEGIN:VCALENDAR
VERSION:2.0
PRODID:-//NetAuktion//NONSGML NetAuktion//SV
METHOD:PUBLISH
BEGIN:VEVENT
UID:20260421T104453-1533095926-netauktion.se
DTSTAMP:20260421T104453
DTSTART:20090731T023300
DTEND:20090731T023600
SUMMARY:Netauktion objekt 0191-053 Auktionspåminnelse
DESCRIPTION:Länk till objektet du var intresserad av: https://staging.netauktion.se/auktion/produkt/nya-strumpor-strl-36-40-mm-varde-3200-kr
END:VEVENT
END:VCALENDAR
