BEGIN:VCALENDAR
VERSION:2.0
PRODID:-//NetAuktion//NONSGML NetAuktion//SV
METHOD:PUBLISH
BEGIN:VEVENT
UID:20260421T104537-1839196683-netauktion.se
DTSTAMP:20260421T104537
DTSTART:20151030T003000
DTEND:20151030T003300
SUMMARY:Netauktion objekt 2427-034 Auktionspåminnelse
DESCRIPTION:Länk till objektet du var intresserad av: https://staging.netauktion.se/auktion/produkt/pall-6-forvaringsboxar-for-lastbilar
END:VEVENT
END:VCALENDAR
