BEGIN:VCALENDAR
VERSION:2.0
PRODID:-//NetAuktion//NONSGML NetAuktion//SV
METHOD:PUBLISH
BEGIN:VEVENT
UID:20260421T104602-818037466-netauktion.se
DTSTAMP:20260421T104602
DTSTART:20151030T002300
DTEND:20151030T002600
SUMMARY:Netauktion objekt 2427-039 Auktionspåminnelse
DESCRIPTION:Länk till objektet du var intresserad av: https://staging.netauktion.se/auktion/produkt/pall-10-slipmaskin-mm
END:VEVENT
END:VCALENDAR
