BEGIN:VCALENDAR
VERSION:2.0
PRODID:-//NetAuktion//NONSGML NetAuktion//SV
METHOD:PUBLISH
BEGIN:VEVENT
UID:20260421T104444-517530250-netauktion.se
DTSTAMP:20260421T104444
DTSTART:20151030T000800
DTEND:20151030T001100
SUMMARY:Netauktion objekt 2427-040 Auktionspåminnelse
DESCRIPTION:Länk till objektet du var intresserad av: https://staging.netauktion.se/auktion/produkt/dewalt-borrhammare-2
END:VEVENT
END:VCALENDAR
