BEGIN:VCALENDAR
VERSION:2.0
PRODID:-//NetAuktion//NONSGML NetAuktion//SV
METHOD:PUBLISH
BEGIN:VEVENT
UID:20260421T104606-1801382319-netauktion.se
DTSTAMP:20260421T104606
DTSTART:20151030T010100
DTEND:20151030T010400
SUMMARY:Netauktion objekt 2427-050 Auktionspåminnelse
DESCRIPTION:Länk till objektet du var intresserad av: https://staging.netauktion.se/auktion/produkt/pall-16-bensindriven-pump
END:VEVENT
END:VCALENDAR
