BEGIN:VCALENDAR
VERSION:2.0
PRODID:-//NetAuktion//NONSGML NetAuktion//SV
METHOD:PUBLISH
BEGIN:VEVENT
UID:20260421T104607-256180206-netauktion.se
DTSTAMP:20260421T104607
DTSTART:20151030T004700
DTEND:20151030T005000
SUMMARY:Netauktion objekt 2427-051 Auktionspåminnelse
DESCRIPTION:Länk till objektet du var intresserad av: https://staging.netauktion.se/auktion/produkt/pall-17-mobil-oljeskiljare
END:VEVENT
END:VCALENDAR
