BEGIN:VCALENDAR
VERSION:2.0
PRODID:-//NetAuktion//NONSGML NetAuktion//SV
METHOD:PUBLISH
BEGIN:VEVENT
UID:20260421T104529-2001165851-netauktion.se
DTSTAMP:20260421T104529
DTSTART:20151030T010300
DTEND:20151030T010600
SUMMARY:Netauktion objekt 2427-066 Auktionspåminnelse
DESCRIPTION:Länk till objektet du var intresserad av: https://staging.netauktion.se/auktion/produkt/farmartank-3
END:VEVENT
END:VCALENDAR
