BEGIN:VCALENDAR
VERSION:2.0
PRODID:-//NetAuktion//NONSGML NetAuktion//SV
METHOD:PUBLISH
BEGIN:VEVENT
UID:20260421T104605-1328846704-netauktion.se
DTSTAMP:20260421T104605
DTSTART:20151126T235700
DTEND:20151127T000000
SUMMARY:Netauktion objekt 2432-134 Auktionspåminnelse
DESCRIPTION:Länk till objektet du var intresserad av: https://staging.netauktion.se/auktion/produkt/skumflaktrokutsug-fomax-7
END:VEVENT
END:VCALENDAR
