BEGIN:VCALENDAR
VERSION:2.0
PRODID:-//NetAuktion//NONSGML NetAuktion//SV
METHOD:PUBLISH
BEGIN:VEVENT
UID:20260421T104438-832709485-netauktion.se
DTSTAMP:20260421T104438
DTSTART:20090731T021900
DTEND:20090731T022200
SUMMARY:Netauktion objekt 0191-061 Auktionspåminnelse
DESCRIPTION:Länk till objektet du var intresserad av: https://staging.netauktion.se/auktion/produkt/t-shirts-sxl-varde-10200-kr
END:VEVENT
END:VCALENDAR
