BEGIN:VCALENDAR
VERSION:2.0
PRODID:-//NetAuktion//NONSGML NetAuktion//SV
METHOD:PUBLISH
BEGIN:VEVENT
UID:20260421T104457-719766347-netauktion.se
DTSTAMP:20260421T104457
DTSTART:20090731T020700
DTEND:20090731T021000
SUMMARY:Netauktion objekt 0191-064 Auktionspåminnelse
DESCRIPTION:Länk till objektet du var intresserad av: https://staging.netauktion.se/auktion/produkt/nya-kill-byxor-strl-28-36-varde-13000-kr
END:VEVENT
END:VCALENDAR
