BEGIN:VCALENDAR
VERSION:2.0
PRODID:-//NetAuktion//NONSGML NetAuktion//SV
METHOD:PUBLISH
BEGIN:VEVENT
UID:20260421T104605-1912609306-netauktion.se
DTSTAMP:20260421T104605
DTSTART:20090731T021700
DTEND:20090731T022000
SUMMARY:Netauktion objekt 0191-068 Auktionspåminnelse
DESCRIPTION:Länk till objektet du var intresserad av: https://staging.netauktion.se/auktion/produkt/nya-killherr-jackor-strl-ml-varde-7200-kr
END:VEVENT
END:VCALENDAR
