BEGIN:VCALENDAR
VERSION:2.0
PRODID:-//NetAuktion//NONSGML NetAuktion//SV
METHOD:PUBLISH
BEGIN:VEVENT
UID:20260421T104456-711502545-netauktion.se
DTSTAMP:20260421T104456
DTSTART:20160331T020000
DTEND:20160331T020300
SUMMARY:Netauktion objekt 2431-005 Auktionspåminnelse
DESCRIPTION:Länk till objektet du var intresserad av: https://staging.netauktion.se/auktion/produkt/lopband-precor-956i-rep-objekt
END:VEVENT
END:VCALENDAR
