BEGIN:VCALENDAR
VERSION:2.0
PRODID:-//NetAuktion//NONSGML NetAuktion//SV
METHOD:PUBLISH
BEGIN:VEVENT
UID:20260421T104455-1896141779-netauktion.se
DTSTAMP:20260421T104455
DTSTART:20151230T013100
DTEND:20151230T013400
SUMMARY:Netauktion objekt 2452-005 Auktionspåminnelse
DESCRIPTION:Länk till objektet du var intresserad av: https://staging.netauktion.se/auktion/produkt/for-metallarbetaren
END:VEVENT
END:VCALENDAR
