BEGIN:VCALENDAR
VERSION:2.0
PRODID:-//NetAuktion//NONSGML NetAuktion//SV
METHOD:PUBLISH
BEGIN:VEVENT
UID:20260421T104620-104263549-netauktion.se
DTSTAMP:20260421T104620
DTSTART:20151127T014300
DTEND:20151127T014600
SUMMARY:Netauktion objekt 2301-036 Auktionspåminnelse
DESCRIPTION:Länk till objektet du var intresserad av: https://staging.netauktion.se/auktion/produkt/10st-byxor-lise-sandahl-2
END:VEVENT
END:VCALENDAR
