BEGIN:VCALENDAR
VERSION:2.0
PRODID:-//NetAuktion//NONSGML NetAuktion//SV
METHOD:PUBLISH
BEGIN:VEVENT
UID:20260421T102853-1031038698-netauktion.se
DTSTAMP:20260421T102853
DTSTART:20151127T014800
DTEND:20151127T015100
SUMMARY:Netauktion objekt 2301-039 Auktionspåminnelse
DESCRIPTION:Länk till objektet du var intresserad av: https://staging.netauktion.se/auktion/produkt/33st-blomklanningar-lise-sandahl
END:VEVENT
END:VCALENDAR
