BEGIN:VCALENDAR
VERSION:2.0
PRODID:-//NetAuktion//NONSGML NetAuktion//SV
METHOD:PUBLISH
BEGIN:VEVENT
UID:20260421T103237-1536720768-netauktion.se
DTSTAMP:20260421T103237
DTSTART:20151127T015000
DTEND:20151127T015300
SUMMARY:Netauktion objekt 2301-043 Auktionspåminnelse
DESCRIPTION:Länk till objektet du var intresserad av: https://staging.netauktion.se/auktion/produkt/26st-t-shirts-med-olika-tryck
END:VEVENT
END:VCALENDAR
