BEGIN:VCALENDAR
VERSION:2.0
PRODID:-//NetAuktion//NONSGML NetAuktion//SV
METHOD:PUBLISH
BEGIN:VEVENT
UID:20260421T103135-1941540637-netauktion.se
DTSTAMP:20260421T103135
DTSTART:20151127T015100
DTEND:20151127T015400
SUMMARY:Netauktion objekt 2301-045 Auktionspåminnelse
DESCRIPTION:Länk till objektet du var intresserad av: https://staging.netauktion.se/auktion/produkt/14st-diverse-klader-lise-sandahl
END:VEVENT
END:VCALENDAR
