BEGIN:VCALENDAR
VERSION:2.0
PRODID:-//NetAuktion//NONSGML NetAuktion//SV
METHOD:PUBLISH
BEGIN:VEVENT
UID:20260421T103128-1285083377-netauktion.se
DTSTAMP:20260421T103128
DTSTART:20151124T013300
DTEND:20151124T013600
SUMMARY:Netauktion objekt 2465-080 Auktionspåminnelse
DESCRIPTION:Länk till objektet du var intresserad av: https://staging.netauktion.se/auktion/produkt/thermobox-pa-hjul-scanbox-4
END:VEVENT
END:VCALENDAR
