BEGIN:VCALENDAR
VERSION:2.0
PRODID:-//NetAuktion//NONSGML NetAuktion//SV
METHOD:PUBLISH
BEGIN:VEVENT
UID:20260421T103129-187477551-netauktion.se
DTSTAMP:20260421T103129
DTSTART:20151124T015000
DTEND:20151124T015300
SUMMARY:Netauktion objekt 2465-096 Auktionspåminnelse
DESCRIPTION:Länk till objektet du var intresserad av: https://staging.netauktion.se/auktion/produkt/grovdiskmaskin-granldisk
END:VEVENT
END:VCALENDAR
